BEGIN:VCALENDAR
PRODID:-//github.com/rianjs/ical.net//NONSGML ical.net 4.0//EN
VERSION:2.0
BEGIN:VTIMEZONE
TZID:Eastern Standard Time
X-LIC-LOCATION:America/New_York
BEGIN:STANDARD
DTSTART:20241103T020000
RRULE:FREQ=YEARLY;BYDAY=1SU;BYMONTH=11
TZNAME:EST
TZOFFSETFROM:-0400
TZOFFSETTO:-0500
END:STANDARD
BEGIN:DAYLIGHT
DTSTART:20250309T020000
RRULE:FREQ=YEARLY;BYDAY=2SU;BYMONTH=3
TZNAME:EDT
TZOFFSETFROM:-0500
TZOFFSETTO:-0400
END:DAYLIGHT
END:VTIMEZONE
BEGIN:VEVENT
DTEND;TZID=Eastern Standard Time;VALUE=DATE:20261028
DTSTAMP:20260426T040215Z
DTSTART;TZID=Eastern Standard Time;VALUE=DATE:20261024
LOCATION:Orange County Convention Center (OCCC) 9800 International Drive O
 rlando\, FL 32819 United States
ORGANIZER;CN=IACP Annual Conference Staff;SENT-BY="mailto:AnnualConference
 @theIACP.org":
SEQUENCE:0
SUMMARY:VACP: 2026 IACP Annual Conference
UID:405bbafd-2b7a-42dc-8f6d-d0ac7f83f514
END:VEVENT
END:VCALENDAR
